BEGIN:VCALENDAR
VERSION:2.0
PRODID:-//Yoga For Health, Wisdom &amp; Harmony by Kalpana Karia - ECPv4.6.11.1//NONSGML v1.0//EN
CALSCALE:GREGORIAN
METHOD:PUBLISH
X-WR-CALNAME:Yoga For Health, Wisdom &amp; Harmony by Kalpana Karia
X-ORIGINAL-URL:https://www.yogaforhealth.co.ke
X-WR-CALDESC:Events for Yoga For Health, Wisdom &amp; Harmony by Kalpana Karia
BEGIN:VEVENT
DTSTART;TZID=UTC+3:20170618T070000
DTEND;TZID=UTC+3:20170618T110000
DTSTAMP:20260422T051555
CREATED:20170607T185043Z
LAST-MODIFIED:20170607T185044Z
UID:6235-1497769200-1497783600@www.yogaforhealth.co.ke
SUMMARY:3rd International Day of Yoga
DESCRIPTION:18th June 2017\, Time : 7:00am to 11:30am\nthereafter Brunch will be Served.\nVenue: Shree Sanatan Hindu Union Temple\, Kisumu\, Kenya. \n\nSIMPLE MEDITATION AND RELAXATION TO ACHIEVE THE HAPPINESS THAT LIES DORMANT WITHIN YOU \nFOR FURTHER INFORMATION CONTACT\nMRS KALPANA KARIA – 0713 448888 / 0731 006818\nMR. DP MANDAVIA – 0733 709200 \nFOR REGISTRATION CONTACT\nMS RAGINI MAISURIA – 0720 222765\nMRS MADHU HARIA – 0710 554666\nMS DIPALI – 0786 142870 \n
URL:https://www.yogaforhealth.co.ke/event/3rd-international-day-of-yoga/
LOCATION:Kisumu\, Kenya
CATEGORIES:Get Together
ATTACH;FMTTYPE=image/jpeg:https://www.yogaforhealth.co.ke/wp-content/uploads/2017/06/3rd-int-day-of-yoga-hck.jpg
ORGANIZER;CN="Kalpana%20Karia":MAILTO:info@yogaforhealth.co.ke
END:VEVENT
BEGIN:VEVENT
DTSTART;TZID=UTC+3:20170618T100000
DTEND;TZID=UTC+3:20170618T110000
DTSTAMP:20260422T051555
CREATED:20170616T184248Z
LAST-MODIFIED:20170616T184248Z
UID:7440-1497780000-1497783600@www.yogaforhealth.co.ke
SUMMARY:Sunday @Lutheran Church Special School
DESCRIPTION: \n
URL:https://www.yogaforhealth.co.ke/event/sunday-lutheran-church-special-school/2017-06-18/
LOCATION:Kisumu\, Kenya
GEO:-0.0917016;34.7679568
CATEGORIES:Get Together,Life Style,Yoga
ATTACH;FMTTYPE=image/jpeg:https://www.yogaforhealth.co.ke/wp-content/uploads/2017/06/Lutheran-School.jpg
ORGANIZER;CN="Kalpana%20Karia":MAILTO:info@yogaforhealth.co.ke
END:VEVENT
END:VCALENDAR